BEGIN:VCALENDAR
VERSION:2.0
PRODID:-//wp-events-plugin.com//7.2.3.1//EN
BEGIN:VEVENT
UID:0-127@lnv-bw.de
DTSTART:20251122T083000Z
DTEND:20251122T160000Z
DTSTAMP:20251117T082639Z
URL:https://lnv-bw.de/veranstaltung/zukunftsforum2025/
SUMMARY:LNV-Zukunftsforum Naturschutz: Die EU-Verordnung zur Wiederherstell
 ung der Natur (WVO) - Ambitionierte Ziele\, praktische Fragen und politisc
 he Gefahren
DESCRIPTION:Am 17.06.2024 hat der Umweltministerrat der Europäischen Union
  trotz erheblicher Widerstände das Nature Restoration Law\, die EU-Wieder
 herstellungsverordnung (WVO) beschlossen. Sie gilt in allen EU-Ländern di
 rekt wie ein Gesetz. Die WVO beinhaltet unter anderem das Ziel\, 30% der L
 and- und Binnengewässerflächen unter Schutz zu stellen und drängt damit
  darauf\, bereits bestehende europäische und globale Verpflichtungen endl
 ich einzulösen. Und das in einem straffen Zeitplan – die nationalen Wie
 derherstellungspläne sollen der EU bereits bis September 2026 vorliegen.\
 n\nEinerseits wirft dies praktische Fragen auf: Wie kann diese Verordnung 
 im Land umgesetzt werden? Welche Maßnahmen sind notwendig\, um die EU-Zie
 le im Arten-\, Natur- und Umweltschutzbereich zu erreichen? Welche Instrum
 ente haben sich bereits bewährt? Und was bedeutet dies für Land- und For
 tstwirtschaft? Andererseits gibt es derzeit massive politische Versuche\, 
 die Umsetzung der Verordnung zu ignorieren oder sie sogar komplett außer 
 Kraft zu setzen.\n\nDie Veranstaltung stellt die wichtige Thematik aus ver
 schiedenen Blickwinkeln vor\, nennt Hintergründe und gibt Vorschläge zur
  Umsetzung.\n\nWir freuen uns auf Ihre Teilnahme\, auf anregende Diskussio
 nen und auf den Austausch mit Ihnen!\n\nDr. Gerhard Bronner\, Landesnaturs
 chutzverband Baden-Württemberg e.V.\n\nDie Veranstaltung wird von der Arc
 hitektenkammer Baden-Württemberg mit 3\,5 Stunden  für Mitglieder und A
 rchitekten/Stadtplaner im Praktikum für die Fachrichtungen Landschaftsarc
 hitektur und Stadtplanung als Fort-/Weiterbildung anerkannt.\n\nZukunftsfo
 rum 2025: Direkt zum Anmeldeformular\n\n&nbsp\;\nProgramm Zukunftsforum Na
 turschutz 2025\nam 22.11.2025 im Hospitalhof Stuttgart (Büchsenstraße 33
 )\n\n 	08:45 Uhr Empfang und Registrierung\n 	09.30 Uhr Begrüßung und Ei
 nführung Dr. Gerhard Bronner\, Landesnaturschutzverband BW\n 	09:40 Uhr A
 lle Jubeljahre mal die Welt reparieren – Aufgabe oder Anmaßung?\nEinfü
 hrende Worte von Pfarrerin Monika Renninger\, Leiterin Evangelisches Bildu
 ngszentrum Hospitalhof Stuttgart\n 	09.50 Uhr Die Wiederherstellung der Na
 tur und ihre Gegner – Konzeptionelle\, ethische und politische Fragen\nP
 rof. Dr. Thomas Potthast\, Universität Tübingen\, Lehrstuhl für Ethik\,
  Theorie und Geschichte der Biowissenschaften sowie Sprecher des Internati
 onalen Zentrum für Ethik in der Wissenschaft (IZEW)\, Präsident EuroNatu
 r Stiftung\n\nGrundlagen\n\n 	10:30 Uhr Die EU-Wiederherstellungsverordnun
 g und ihre Umsetzung in Baden-Württemberg\, Sebastian Olschewski\, Leiter
  Referat 72 Arten- und Habitatschutz im Ministerium für Umwelt\,Klima und
  Energiewirtschaft BW\n 	11:10 Pause\n 	11:40 Herausforderung für die Lan
 dwirtschaft - die Sicht der Bauernverbände\, Bernhard Bolkart\, Präsiden
 t des Badischen Landwirtschaftlichen Hauptverbandes e. V. (BLHV)\n 	12:20 
 Auftrag\, Impuls oder Chance - die Wiederherstellungsverordnung aus Sicht 
 einer höheren Naturschutzbehörde\, Dr. Dorothee Braband\, Leiterin Refer
 at 56 beim Regierungspräsidium Tübingen\n 	13:00 Uhr Mittagspause\n\nUms
 etzung\n\n 	14:00 Uhr Der Wald in Baden-Württemberg - gut aufgestellt fü
 r die Wiederherstellungsverordnung? Reinhold Mayer\, Vorsitzender Landeswa
 ldverband Baden-Württemberg e. V.\n 	14:30 Uhr (Wieder-)Herstellung von L
 ebensräumen: Das Knowhow der Landschaftserhaltungsverbände am Beispiel O
 stalbkreis\nRalf Worm\, Geschäftsführer Landschaftserhaltungsverband Ost
 albkreis\n 	15.10 Uhr Naturschutz neu denken? Sind die Naturschutzziele mi
 t den bisherigen Methoden zu erreichen? Brauchen wir neue Ansätze? Am Bei
 spiel von extensiven naturnahen Weiden mit Großherbivoren\nDr. Alois Kapf
 er\, Landschaftsökologe\, Vorsitzender des Verein Naturnahe Weidelandscha
 ft\n 	15:50 Uhr Kaffeepause\n 	16:10 Uhr Naturschutz und Landnutzung Hand 
 in Hand? Chancen und Herausforderungen\nPodiumsgespräch mit Bernhard Bolk
 art\, Sebastian Olschewski\, Prof. Dr. Thomas Potthast\, Roland Mayer und 
 Dr. Gerhard Bronner\n 	16.55 Uhr Zusammenfassung und Ausblick\, Dr. Gerhar
 d Bronner\, LNV BW\n 	17.00 Uhr Ende des Zukunftsforums\n\nProgramm-Flyer\
 n\nZukunftsforum 2025: Direkt zum Anmeldeformular\n\nRückblick: Tagungsbe
 richte der Veranstaltungsreihe "Zukunftsforum Naturschutz"\nVeranstalter d
 es Zukunftsforum 2025\nLandesnaturschutzverband Baden-Württemberg e.V.\nO
 lgastraße 19\, 70182 Stuttgart\, Telefon 0711/24 89 55 20\nFax 0711/ 24 8
 9 55 30\, lnv-bw.de\n\nin Kooperation mit\n\nHospitalhof Stuttgart\, Evang
 elisches Bildungszentrum \nBüchsenstraße 33\, 70174 Stuttgart\, Tel. 071
 1/2068-150\nFax 0711/2068-327\, hospitalhof.de\nTagungspauschale\nDie Paus
 chale für die Teilnahme am Zukunftsforum 2025 beträgt 50\,00 Euro. Sie b
 einhaltet u.a. Tagungsgetränke und das Mittagessen.\n\nÜberweisen Sie de
 n Betrag bitte bis zum 14.11.2025 mit dem Stichwort "Zukunftsforum 2025" u
 nd Ihrem Vor- und Zunamen auf das Konto des Landesnaturschutzverbandes Bad
 en-Württemberg e.V. (siehe Teilnahmebestätigung).\n\nEine Stonierung Ihr
 er Anmeldung ist bis zum 14.11.2025 kostenfrei möglich. Anschließend mü
 ssen wir organisationsbedingt leider die vollen Kosten berechnen.
ATTACH;FMTTYPE=image/jpeg:https://lnv-bw.de/wp-content/uploads/2025/09/Zuk
 unftsforum-Naturschutz-2025-in-Stuttgart-scaled.jpg
CATEGORIES:top3,veranstaltungen,Zukunftsforum
LOCATION:Ev. Bildungszentrum Hospitalhof\, Büchsenstraße 33\, Stuttgart\,
  Baden-Württemberg\, 70182 \, Deutschland
X-APPLE-STRUCTURED-LOCATION;VALUE=URI;X-ADDRESS=Büchsenstraße 33\, Stuttg
 art\, Baden-Württemberg\, 70182 \, Deutschland;X-APPLE-RADIUS=100;X-TITLE
 =Ev. Bildungszentrum Hospitalhof:geo:0,0
END:VEVENT
END:VCALENDAR