BEGIN:VCALENDAR
VERSION:2.0
PRODID:-//wp-events-plugin.com//7.2.3.1//EN
BEGIN:VEVENT
UID:0-112@lnv-bw.de
DTSTART:20240223T073000Z
DTEND:20240223T150000Z
DTSTAMP:20240514T073701Z
URL:https://lnv-bw.de/veranstaltung/wald-im-klimawandel/
SUMMARY:LNV/FVA-Tagung: Wald im Klimawandel. Kohlenstoffspeicher Wald – O
 ptionen\, Instrumente\, Grenzen
DESCRIPTION:Rückblick auf die FVA-Tagung \n\nDie Reduktion von CO2-Emissio
 nen ist eine der zentralen Herausforderungen unserer Zeit. Wälder spielen
  dabei eine besondere Rolle\, denn sie sind die wichtigste\, aktive Kohlen
 stoffsenke in Deutschland. Auch das Bauen mit Holz gilt als wirksame Maßn
 ahme des Klimaschutzes. Darüber hinaus haben Wälder mit Blick auf den fo
 rtschreitenden Artenverlust eine enorme Bedeutung als vielfältige Lebensr
 äume und Rückzugsorte nicht nur für bedrohte und seltene Arten wichtig.
  Gleichzeitig unterliegen aber auch die Wälder den mit dem Klimawandel ei
 nhergehenden Veränderungen.\n\nWie also umgehen mit den Wäldern in Baden
 -Württemberg? Kohlenstoffspeicherung um jeden Preis? Oder hat die Anpassu
 ng an den Klimawandel oberste Priorität? Wie steht es heute um den Kohlen
 stoffspeicher Wald im Land? Was bringt die Holznutzung für den Klimaschut
 z? Und vor allem: welche Folgen hat das alles für die Biodiversität sowi
 e die Menschen\, die vom Wald und seinen Ökosystemleistungen leben?\n\nMi
 t der Tagung wollen die Veranstalter vor dem Hintergrund der großen Unsic
 herheiten in der Klimapolitik aktuell diskutierte Fragen aufgreifen und m
 ögliche Zielkonflikte adressieren. Die Tagung richtet sich an Waldinteres
 sierte aus Naturschutz\, Forstwirtschaft und Bürgerschaft und lädt dazu 
 ein\, die Debatte um die Zukunft des Waldes auf fachlicher Grundlage zu in
 tensivieren.\n\nLNV und FVA laden Sie herzlich ein\, mitzudiskutieren.\n\n
 Tagungsflyer als PDF zum Download\nProgramm: Tagung Wald im Klimawandel\n\
 n 	08:45 Registrierung\n 	09:30 Begrüßung und Einführung: Dr. Gerhard B
 ronner (LNV) und Prof. Dr. Ulrich Schraml (FVA)\n 	\nHerausforderung Klima
 schutz und Erhalt der heimischen Biodiversität\n\n 	09:50 Klimawandel und
  dessen Folgen für Wälder und Biodiversität: Prof. Dr. Thomas Hickler\,
  Senckenberg Institut\n 	10:20 Ökosystemleistungen in Zeiten des Klimawan
 dels - steht der Kohlenstoffspeicher im Zielkonflikt zu Klimaanpassung und
  Biodiversitätsschutz?: Prof. Dr. Jürgen Bauhus\, Albert-Ludwigs-Univers
 ität Freiburg\n 	10:50 Diskussion\n 	11.10 Kaffeepause\n 	\nZwischen Klim
 a- und Biodiversitätsschutz\n\n 	11.30 Wieviel Holzvorrat haben wir im Wa
 ld? Erkenntnisquellen\, Trends und Unsicherheiten: Dr. Petra Adler\, FVA\n
  	11.55 Auch Bäume müssen sterben. Baumwachstum und Mortalität als Gren
 zen der Kohlenstoffspeicherung: Prof. Dr. Ulrich Kohnle\, FVA\n 	12:20 Dis
 kussion\n 	12:40 Mittagspause\nSie können bei der Buchung (unten) ein fle
 ischhaltiges oder ein vegetarisches Gericht vorbestellen.\n 	\nKohlenstoff
 speicher im Wald - oder im Nutzholz?\n\n 	13:30 Kohlenstoffbilanzen von Wa
 ldökosystemen und des Waldsektors - Modellierungsergebnisse und Folgerung
 en für Politik und Waldmanagement: Dr. Klaus Hennenberg\, Öko-Institut e
 .V.\n 	13:55 Treibhausgasrelevanz der Holznutzung: Dr. Sebastian Rüter\, 
 Thünen-Institut\n 	14:20 Alle wissen\, was gut für den Wald ist. Wo blei
 bt Platz für die bäuerliche Waldwirtschaft?: Martin Tritschler\, Forstka
 mmer Baden-Württemberg\n 	14:45 Diskussion\n 	15:15 Kaffeepause\n 	\nProz
 ess-Schutz im Wald - und wo bleibt der Artenschutz?\n\n 	15:35 Lichte Wäl
 der im Klimawandel - Wiederkehr der Mittel- und Niederwälder?: Prof. Dr. 
 Mattias Rupp\, Hochschule für Forstwirtschaft Rottenburg\n\n 	16:00 Absch
 lussdiskussion mit Dr. Gerhard Bronner (LNV)\, Landesforstpräsident Marti
 n Strittmatter (Landwirtschaftsministerium BW)\, Martin Tritschler (Forstk
 ammer BW)\, Moderation Prof. Dr. Ulrich Schraml (FVA)\n 	16:45 Schlusswort
  und Verabschiedung: Dr. Gerhard Bronner (LNV)\, Prof. Dr. Ulrich Schraml 
 (FVA)\n 	17:00 Ende\n\nWir bitten Sie zu beachten\, dass auf der Veranstal
 tung gefilmt und/oder fotografiert wird sowie eine Aufzeichnung zu dokumen
 tarischen Zwecken erfolgen kann. Mit Ihrer Teilnahme an der Veranstaltung 
 willigen Sie ein\, dass gegebenenfalls ein Foto und/oder eine filmische Ab
 bildung Ihrer Person für die Veröffentlichung (Print\, Online\, Soziale 
 Netzwerke etc.) genutzt wird. Weitere Informationen zur Datenverarbeitung 
 sowie zu Ihren Rechten\, insbesondere zum Widerruf Ihrer Einwilligung\, fi
 nden Sie in der Datenschutzerklärung.
ATTACH;FMTTYPE=image/jpeg:https://lnv-bw.de/wp-content/uploads/2023/12/Wal
 d-0651-2.jpg
CATEGORIES:veranstaltungen
LOCATION:Hospitalhof Stuttgart\, Büchsenstraße 33\, Stuttgart\, Baden-Wü
 rttemberg\, 70174 \, Deutschland
X-APPLE-STRUCTURED-LOCATION;VALUE=URI;X-ADDRESS=Büchsenstraße 33\, Stuttg
 art\, Baden-Württemberg\, 70174 \, Deutschland;X-APPLE-RADIUS=100;X-TITLE
 =Hospitalhof Stuttgart:geo:0,0
END:VEVENT
END:VCALENDAR