BEGIN:VCALENDAR
VERSION:2.0
PRODID:-//wp-events-plugin.com//7.2.3.1//EN
BEGIN:VEVENT
UID:0-135@lnv-bw.de
DTSTART:20260226T180000Z
DTEND:20260226T200000Z
DTSTAMP:20260213T084955Z
URL:https://lnv-bw.de/veranstaltung/luchs-wildkatze-und-co-was-bringt-die-
 fortschreibung-des-generalwildwegeplans-2025/
SUMMARY:Luchs\, Wildkatze und Co. – was bringt die Fortschreibung des Gen
 eralwildwegeplans 2025?
DESCRIPTION:Diese Veranstaltung findet online statt.\n\nDer Generalwildwege
 plan (GWP)\, der die wissenschaftliche Grundlage für den Verbund von wald
 geprägten Wildtierlebensräumen in Baden-Württemberg ist wurde 2025 fort
 geschrieben. Er bildet gemeinsam mit den Bestandteilen Biotopverbund Offen
 land und Gewässerlandschaften den "Fachplan landesweiter Biotopverbund" u
 nd ist seit 2015 sowohl im Naturschutzgesetz des Landes (NatschG) als auch
  im Jagd- und Wildtiermanagementgesetz (JWMG) verankert. Bei den Wildtierk
 orridoren ist im Vergleich zu 2015 eine Tendenz zur Verschlechterung ihrer
  Funktionalität zu verzeichnen. Zunehmend wird der Ausbau der Erneuerbare
 n Energien mit Windparks und Freiflächen-PV in Wildtierkorridoren eine wi
 chtige Frage. Wie gelingt es\, die Wildtierkorridore langfristig abzusiche
 rn?\n\nReferent:\nBiologe Klaus Lachenmaier ist beim Landesjagdverband Bad
 en-Württemberg e.V. für Wildtiermanagement und Naturschutz zuständig. I
 hn beschäftigen vor allem die Berücksichtigung des Generalwildwegeplans 
 bei allen relevanten Planungen und die rechtliche Absicherung der Wildtier
 korridore.
ATTACH;FMTTYPE=image/jpeg:https://lnv-bw.de/wp-content/uploads/2026/01/Wil
 dkatze-MarcelLangthim-pixabay_qf.jpg
CATEGORIES:StEiN,veranstaltungen
END:VEVENT
END:VCALENDAR