BEGIN:VCALENDAR
VERSION:2.0
PRODID:-//wp-events-plugin.com//7.2.3.1//EN
BEGIN:VEVENT
UID:0-115@lnv-bw.de
DTSTART:20240315T133000Z
DTEND:20240315T163000Z
DTSTAMP:20240312T102909Z
URL:https://lnv-bw.de/veranstaltung/idur-rechtsseminar-das-klimaschutzrech
 t-aktuell-die-wassersensible-stadtplanung/
SUMMARY:IDUR-Rechtsseminar - Das Klimaschutzrecht aktuell - Die wassersensi
 ble Stadtplanung
DESCRIPTION:Fortbildungsveranstaltung in Kooperation mit dem Informationsdi
 enst Umweltrecht (IDUR) e.V.\n\nDiese Veranstaltung findet Online statt.\n
 \nDas Klimaschutzrecht -Ein Überblick: Wo stehen wir aktuell\n\nReferenti
 n:\nUrsula Philipp-Gerlach\,\nFachanwältin für Verwaltungsrecht\n\nKlima
 schutz konkret: Die wassersensible Stadtplanung\n\nReferentin:\nAss. iur. 
 Felicia Petersen\, M.A.\n\nDieses Seminar richtet sich an Naturschützer u
 nd Naturschützerinnen aber auch aktive Bürger- und Bürgerinnen mit eine
 m Interesse an Fragen des Naturschutzrechtes.\n\nSowohl Klima- als auch Bi
 odiversitätskrise nehmen in ihrem Ausmaß drastisch zu. Die Zunahme der K
 limagasemissionen\, die weltweite Temperaturerhöhung und die dadurch ausg
 elösten Katastrophen gefährden sowohl die Ökosysteme der Erde als auch 
 die Menschheit. Zugleich wächst die Zahl der in ihrer Existenz bedrohten 
 Tier- und Pflanzenarten. Das bedeutet für den Naturschutz\, den Klimaschu
 tz in Zukunft in Bezug auf Stellungnahmen in Bebauungsplänen und auf die 
 Umsetzung von Naturschutzmaßnahmen mitzudenken. Voraussetzung dafür ist\
 , die gesetzlichen Grundlagen zu kennen und einordnen zu können. Dazu wil
 l dieses Seminar beitragen.\n\nWeiter Informationen entnehmen Sie bitte de
 m Flyer: flyer_IDUR_Rechtsseminar2024\n\nBitte melden Sie sich mit dem unt
 enstehenden Formular an.\n\n&nbsp\;
ATTACH;FMTTYPE=image/jpeg:https://lnv-bw.de/wp-content/uploads/2024/03/Was
 sersensible-Stadt.jpg
CATEGORIES:Seminare,veranstaltungen
END:VEVENT
END:VCALENDAR