BEGIN:VCALENDAR
VERSION:2.0
PRODID:-//wp-events-plugin.com//7.2.3.1//EN
BEGIN:VEVENT
UID:0-4@lnv-bw.de
DTSTART:20161126T073000Z
DTEND:20161126T150000Z
DTSTAMP:20160930T110540Z
URL:http://lnv-bw.de/veranstaltung/zukunftsforum2016/
SUMMARY:Zukunftsforum Naturschutz: Alles fließt. Doch was fließt mit?
DESCRIPTION:Vom Zustand der Gewässer in Baden-Württemberg\nUm unsere Gew
 ässer zu schützen gelten mit der Wasserrahmenrichtlinie (WRRL) seit der 
 Jahrtausendwende strenge Vorgaben in der gesamten Europäischen Union. Die
  WRRL gab als Ziel vor\, bis Ende 2015 einen guten ökologischen und chemi
 schen Zustand der Gewässer zu erreichen. Die Frist wurde verpasst\, die Z
 ielmarke verlängert. Höchste Zeit also für eine Situationsanalyse. \n\n
 \n\n\n	Wie steht es in Baden-Württemberg um die Gewässerstruktur?\n	Wie 
 um die Gewässerqualität? Was hat es mit den Spurenstoffen auf sich\, die
  schon in kleinsten Mengen auf Fische und Wasserlebewesen wirken? \n	Woher
  kommen sie und was sind ihre Folgen für das Ökosystem? \n	Und welche Er
 fahrungen und Lehren zieht das Land aus der Giftkatastrophe an der Jagst i
 m Landkreis Schwäbisch Hall? \n	Wie engagiert sich Baden-Württemberg fü
 r eine gute Wasserqualität?\n\nErneut greift das Zukunftsforum Naturschut
 z ein aktuelles und brisantes Thema auf. Es will Teilnehmer/innen aus Poli
 tik\, Verwaltung und Verbänden\, der Wasserwirtschaft und Gewässerkunde\
 , Natur- und Umweltschutz und alle Interessierten Anregungen geben und zur
  Diskussion einladen.\n\nWir laden Sie herzlich ein!\nAuf Ihre Teilnahme u
 nd das Gespräch freuen sich \nDr. Gerhard Bronner\, Landesnaturschutzverb
 and BW e. V.\nPfarrerin Monika Renninger\, Hospitalhof Stuttgart\nKarl Gie
 beler\, Moderator\n\nFaltblatt mit Infos und Programm (.pdf\, 250 kb)
CATEGORIES:veranstaltungen
LOCATION:Ev. Bildungszentrum Hospitalhof\, Büchsenstraße 33\, Stuttgart\,
  Baden-Württemberg\, 70182 \, Deutschland
X-APPLE-STRUCTURED-LOCATION;VALUE=URI;X-ADDRESS=Büchsenstraße 33\, Stuttg
 art\, Baden-Württemberg\, 70182 \, Deutschland;X-APPLE-RADIUS=100;X-TITLE
 =Ev. Bildungszentrum Hospitalhof:geo:0,0
END:VEVENT
END:VCALENDAR